BEGIN:VCALENDAR
VERSION:2.0
PRODID:-//Karnac Racing News - ECPv6.15.20//NONSGML v1.0//EN
CALSCALE:GREGORIAN
METHOD:PUBLISH
X-ORIGINAL-URL:https://karnac.com/flanews
X-WR-CALDESC:Events for Karnac Racing News
REFRESH-INTERVAL;VALUE=DURATION:PT1H
X-Robots-Tag:noindex
X-PUBLISHED-TTL:PT1H
BEGIN:VTIMEZONE
TZID:UTC
BEGIN:STANDARD
TZOFFSETFROM:+0000
TZOFFSETTO:+0000
TZNAME:UTC
DTSTART:20180101T000000
END:STANDARD
END:VTIMEZONE
BEGIN:VEVENT
DTSTART;TZID=UTC:20191231T190000
DTEND;TZID=UTC:20191231T230000
DTSTAMP:20260424T051127
CREATED:20191231T021244Z
LAST-MODIFIED:20191231T023343Z
UID:26071-1577818800-1577833200@karnac.com
SUMMARY:New Years Eve Crash N' Bash at 417 Southern Speedway
DESCRIPTION:2019 New Year’s Eve Enduro\n\nA New Year’s Eve just would not be the same without some good ol fashioned racing\, bumping\, and banging!! \n4-17 southern Speedway will be hosting a New Year’s Eve Enduro & Demo Derby on December 31\, 2019. \nRules are posted on the website – go to “driver” tab then scroll down to “rules” \nMore event info & payout will be posted shortly. \nThis will be a family friendly event – where everybody is always welcome. \nCurrent classes and events (more activities to be announced):\n**125 lap Enduro\n**Chain Pull\n**Paul Revere race\n*Flag pole race\n* Road Course race\n**Demo Derby\n**live music\, food\, drinks\n**Tire drop at midnight \nFor more race information or questions regarding rules – Please contact Joe Lombardo at 941-914-1440 or on Face Book at JC Mollys \n\n  \n 
URL:https://karnac.com/flanews/event/new-years-eve-crash-n-bash/
LOCATION:417 Southern Speedway\, 8655 Piper Road\, Punta Gorda\, Florida\, 33982
END:VEVENT
END:VCALENDAR