BEGIN:VCALENDAR
VERSION:2.0
PRODID:-//Karnac Racing News - ECPv6.15.20//NONSGML v1.0//EN
CALSCALE:GREGORIAN
METHOD:PUBLISH
X-ORIGINAL-URL:https://karnac.com/flanews
X-WR-CALDESC:Events for Karnac Racing News
REFRESH-INTERVAL;VALUE=DURATION:PT1H
X-Robots-Tag:noindex
X-PUBLISHED-TTL:PT1H
BEGIN:VTIMEZONE
TZID:UTC
BEGIN:STANDARD
TZOFFSETFROM:+0000
TZOFFSETTO:+0000
TZNAME:UTC
DTSTART:20190101T000000
END:STANDARD
END:VTIMEZONE
BEGIN:VEVENT
DTSTART;VALUE=DATE:20200130
DTEND;VALUE=DATE:20200203
DTSTAMP:20260424T100251
CREATED:20200114T004209Z
LAST-MODIFIED:20200114T004350Z
UID:26202-1580342400-1580687999@karnac.com
SUMMARY:North Florida Speedway - Winternationals Practice
DESCRIPTION:North Florida Speedway – Winternationals UMP Mods\, Thunder/Pure Stocks\, Street Stocks\, Hobbies\, Super Late Models
URL:https://karnac.com/flanews/event/north-florida-speedway-winternationals-practice/
CATEGORIES:Upcoming Events
ATTACH;FMTTYPE=image/jpeg:https://karnac.com/flanews/wp-content/uploads/2020/01/111.jpg
END:VEVENT
BEGIN:VEVENT
DTSTART;VALUE=DATE:20200129
DTEND;VALUE=DATE:20200201
DTSTAMP:20260424T100251
CREATED:20200114T003658Z
LAST-MODIFIED:20200114T003658Z
UID:26199-1580256000-1580515199@karnac.com
SUMMARY:East Bay Raceway Park- Late Models\, Top Gun Sprints\, V8 Warriors\, Thunder Stocks
DESCRIPTION:East Bay Raceway Park- Late Models\, Top Gun Sprints\, V8 Warriors\, Thunder Stocks
URL:https://karnac.com/flanews/event/east-bay-raceway-park-late-models-top-gun-sprints-v8-warriors-thunder-stocks/
CATEGORIES:Upcoming Events
ATTACH;FMTTYPE=image/jpeg:https://karnac.com/flanews/wp-content/uploads/2010/02/eastbaylogo1-e1578943332750.jpg
END:VEVENT
BEGIN:VEVENT
DTSTART;VALUE=DATE:20200125
DTEND;VALUE=DATE:20200126
DTSTAMP:20260424T100251
CREATED:20200114T003412Z
LAST-MODIFIED:20200114T003428Z
UID:26197-1579910400-1579996799@karnac.com
SUMMARY:Auburndale Speedway - Superbowl 100 Sportsman
DESCRIPTION:01/25/20- Auburndale Speedway – Superbowl 100 Sportsman\, Modified 50\, Legends\, Pure Stocks\, Mini Cups
URL:https://karnac.com/flanews/event/auburndale-speedway-superbowl-100-sportsman/
CATEGORIES:Upcoming Events
ATTACH;FMTTYPE=image/jpeg:https://karnac.com/flanews/wp-content/uploads/2016/10/Auburndale-Logo.jpg
END:VEVENT
BEGIN:VEVENT
DTSTART;VALUE=DATE:20200125
DTEND;VALUE=DATE:20200126
DTSTAMP:20260424T100251
CREATED:20200114T002753Z
LAST-MODIFIED:20200114T002756Z
UID:26192-1579910400-1579996799@karnac.com
SUMMARY:4-17 Southern Speedway - 3rd Annual Davidson Super Late Model Memorial 100
DESCRIPTION:01/25/20- 4-17 Southern Speedway- 3rd Annual Davidson Super Late Model Memorial 100\, DAARA 25\, Dwarfs 25\, Legends 25\, TQ Midget 25\, AMod 25\, Mini Stock
URL:https://karnac.com/flanews/event/4-17-southern-speedway-3rd-annual-davidson-super-late-model-memorial-100/
CATEGORIES:Upcoming Events
ATTACH;FMTTYPE=image/jpeg:https://karnac.com/flanews/wp-content/uploads/2020/01/417-Southern-Speedway.jpg
END:VEVENT
BEGIN:VEVENT
DTSTART;VALUE=DATE:20200120
DTEND;VALUE=DATE:20200126
DTSTAMP:20260424T100251
CREATED:20200114T002249Z
LAST-MODIFIED:20200114T003210Z
UID:26186-1579478400-1579996799@karnac.com
SUMMARY:East Bay Raceway Park- UMP/EBRP Open Wheel Modifieds and Street Stocks
DESCRIPTION:UMP/EBRP Open Wheel Modifieds and Street Stocks
URL:https://karnac.com/flanews/event/east-bay-raceway-park-ump-ebrp-open-wheel-modifieds-and-street-stocks/
CATEGORIES:Upcoming Events
ATTACH;FMTTYPE=image/jpeg:https://karnac.com/flanews/wp-content/uploads/2010/02/eastbaylogo1-e1578943332750.jpg
END:VEVENT
BEGIN:VEVENT
DTSTART;VALUE=DATE:20200118
DTEND;VALUE=DATE:20200119
DTSTAMP:20260424T100251
CREATED:20200114T001335Z
LAST-MODIFIED:20200114T002523Z
UID:26184-1579305600-1579391999@karnac.com
SUMMARY:4-17 Southern Speedway- Season Opener
DESCRIPTION:4-17 Southern Speedway- Season Opener\, Southern Series Winged Sprint Cars 40\, Pro Truck 50\, Modified Mini 25\, Outlaw Modified 25\, V8 Bomber 25
URL:https://karnac.com/flanews/event/4-17-southern-speedway-season-opener/
CATEGORIES:Upcoming Events
ATTACH;FMTTYPE=image/jpeg:https://karnac.com/flanews/wp-content/uploads/2020/01/417-Southern-Speedway.jpg
END:VEVENT
BEGIN:VEVENT
DTSTART;VALUE=DATE:20200117
DTEND;VALUE=DATE:20200118
DTSTAMP:20260424T100251
CREATED:20200114T001108Z
LAST-MODIFIED:20200114T001134Z
UID:26181-1579219200-1579305599@karnac.com
SUMMARY:4-17 Southern Speedway - Open Practice
DESCRIPTION:4-17 Southern Speedway- Open Practice
URL:https://karnac.com/flanews/event/4-17-southern-speedway-open-practice/
CATEGORIES:Upcoming Events
ATTACH;FMTTYPE=image/jpeg:https://karnac.com/flanews/wp-content/uploads/2020/01/417-Southern-Speedway.jpg
END:VEVENT
BEGIN:VEVENT
DTSTART;VALUE=DATE:20200116
DTEND;VALUE=DATE:20200119
DTSTAMP:20260424T100251
CREATED:20200113T235002Z
LAST-MODIFIED:20200114T003743Z
UID:26176-1579132800-1579391999@karnac.com
SUMMARY:Sunshine Nationals - Volusia Speedway Park
DESCRIPTION:01/16/20- Volusia Speedway Park- DIRTcar Pro Late Models\, Florida Late Models\, 602 Late models
URL:https://karnac.com/flanews/event/sunshine-nationals/
CATEGORIES:Upcoming Events
ATTACH;FMTTYPE=image/png:https://karnac.com/flanews/wp-content/uploads/2020/01/2020_DIRTCAR_SUNSHINE_NAT_FINAL-300x155-1.png
END:VEVENT
END:VCALENDAR